BEGIN:VCALENDAR
VERSION:2.0
PRODID:
BEGIN:VEVENT
UID:356177imp
DTSTAMP:20260423T181815Z
DTSTART:20260810T130000Z
DTEND:20260810T163000Z
SUMMARY: Surgent's Preparation and Compilation Engagements Under the SSARS
DESCRIPTION: Be the go-to person on financial statement compilation and preparation engagements. Specifically designed for those performing preparation and compilation engagements\, this course will provide you with a hands-on application for performing preparation and compilation engagements under AR-C Section 70 and 80\, respectively. You will learn the ins and outs of relevant sections of the SSARS related to preparation and compilation engagements with a focus on how recently issued updates to SSARS No. 21 impact these engagements. More importantly\, you will be provided practical examples and illustrations to help you effectively and efficiently perform those engagements\, including a detailed discussion of the reporting requirements under AR-C 80 related to compilation engagement. Lastly\, the course will review recent peer review feedback on these types of engagements\, highlighting areas where you can improve engagement quality.Delivery Method: Individual webcastCPE Credit: 4Program Level: BasicThis course is being offered by a learning partner. You may access the Surgent platform through the My CPE page on vscpa.com after purchase\n 
CLASS:PUBLIC
END:VEVENT
END:VCALENDAR
