BEGIN:VCALENDAR
VERSION:2.0
PRODID:
BEGIN:VEVENT
UID:356172imp
DTSTAMP:20260423T171454Z
DTSTART:20260810T130000Z
DTEND:20260810T210000Z
SUMMARY: Surgent's Audits of 401(k) Plans: New Developments and Critical Issues
DESCRIPTION: One of the most favored employee benefit plans\, the 401(k) plan\, provides unique challenges for auditors.

Through this course\, auditors will obtain an understanding of the rules and regulations unique to employee benefit plans and obtain practical guidance on applying them. Auditors will enhance their knowledge of the performance and reporting requirements through real-world examples\, best practices\, and efficient audit techniques that can be utilized in various audit engagements. Make sure your audits don't trigger a DOL inspection by conforming to all applicable rules and regulations.Delivery Method: Individual webcastCPE Credit: 8Program Level: BasicThis course is being offered by a learning partner. You may access the Surgent platform through the My CPE page on vscpa.com after purchase\n 
CLASS:PUBLIC
END:VEVENT
END:VCALENDAR
