BEGIN:VCALENDAR
VERSION:2.0
PRODID:
BEGIN:VEVENT
UID:356171imp
DTSTAMP:20260421T185602Z
DTSTART:20260810T170000Z
DTEND:20260810T190000Z
SUMMARY: Surgent's Defending Firms: Email Fraud\, Cloud Risks\, Cyber Insurance\, and Remote Work Security
DESCRIPTION: Cyber threats targeting accounting and finance professionals are growing more sophisticated\, putting sensitive financial data at risk. This session explores the most pressing cybersecurity challenges accounting and finance professionals face today\, including email fraud\, phishing attacks\, cloud security risks\, and securing remote work environments. It also addresses the role of cyber insurance. Through real-world case studies and practical strategies\, participants will learn how to recognize and mitigate cyber threats\, evaluate cyber insurance policies\, and implement security measures that protect their firms and clients. Attendees will leave with actionable steps to strengthen their cybersecurity posture and ensure compliance with evolving regulatory and industry standards.Delivery Method: Individual webcastCPE Credit: 2Program Level: OverviewThis course is being offered by a learning partner. You may access the Surgent platform through the My CPE page on vscpa.com after purchase\n 
CLASS:PUBLIC
END:VEVENT
END:VCALENDAR
