BEGIN:VCALENDAR
VERSION:2.0
PRODID:
BEGIN:VEVENT
UID:356155imp
DTSTAMP:20260423T020936Z
DTSTART:20260806T130000Z
DTEND:20260806T210000Z
SUMMARY: Surgent's The Complete Guide to Payroll Taxes and 1099 Issues
DESCRIPTION: Employment taxes are often overlooked as an area where more planning may be effective. Payroll taxes have become an increasing burden for the average business\, and IRS penalties for noncompliance have risen dramatically in recent years. The Service has announced that uncovering noncompliance by employers ranks high on its audit list. This course presents a comprehensive overview of federal payroll taxes\, Form 1099\, and related compliance issues.Delivery Method: Individual webcastCPE Credit: 8Program Level: BasicThis course is being offered by a learning partner. You may access the Surgent platform through the My CPE page on vscpa.com after purchase\n 
CLASS:PUBLIC
END:VEVENT
END:VCALENDAR
