BEGIN:VCALENDAR
VERSION:2.0
PRODID:
BEGIN:VEVENT
UID:356133imp
DTSTAMP:20260423T004312Z
DTSTART:20260804T170000Z
DTEND:20260804T190000Z
SUMMARY: Surgent's Liquidation of Flow-Through Entities for LLCs and Partnerships
DESCRIPTION: Part of the technical competence of most experienced accounting and finance professionals is the ability to advise owners of S corporations and partnerships or multiple-member LLCs treated as partnerships regarding the tax rules that apply when these entities liquidate. Entity liquidations do not occur every day\; but they do occur\, and often at very critical times in the business life of the entity and its owners. All accounting and finance professionals should be able to advise their clients about the tax issues associated with client businesses that go out of existence and liquidate. This program explains the tax consequences associated with liquidating S corporations\, partnerships\, and multiple-member limited liability companies treated as partnerships.Delivery Method: Individual webcastCPE Credit: 2Program Level: IntermediateThis course is being offered by a learning partner. You may access the Surgent platform through the My CPE page on vscpa.com after purchase\n 
CLASS:PUBLIC
END:VEVENT
END:VCALENDAR
