BEGIN:VCALENDAR
VERSION:2.0
PRODID:
BEGIN:VEVENT
UID:356123imp
DTSTAMP:20260424T050416Z
DTSTART:20260804T140000Z
DTEND:20260804T160000Z
SUMMARY: Surgent's Guide to Partner Capital Account Reporting
DESCRIPTION: Accounting and finance professionals are responsible for presenting partner capital accounts on the tax basis. But what does this mean and how have rules changed in recent years regarding partner capital accounts? This webinar covers exactly that. For accounting and finance professionals preparing partnership 1065 forms\, this course explains these complex rules in practical and understandable terms.Delivery Method: Individual webcastCPE Credit: 2Program Level: BasicThis course is being offered by a learning partner. You may access the Surgent platform through the My CPE page on vscpa.com after purchase\n 
CLASS:PUBLIC
END:VEVENT
END:VCALENDAR
