BEGIN:VCALENDAR
VERSION:2.0
PRODID:
BEGIN:VEVENT
UID:356118imp
DTSTAMP:20260423T223553Z
DTSTART:20260803T130000Z
DTEND:20260803T163000Z
SUMMARY: Surgent's Section 199A: Schedule K-1 Reporting by Relevant Pass-Through Entities
DESCRIPTION: Section 199A is still the hottest tax topic related to the Tax Cuts and Jobs Act of 2017. The Act created new reporting requirements for relevant pass-through entities (RPEs). Each RPE is required to report the relevant data needed to calculate the &sect\;199A deduction to each recipient of Schedule K-1. Your clients will trust you to ensure that the relevant data is properly reported. The IRS has added disclosure lines to Schedules K-1 for S corporations\, partnerships\, and trusts. This course will cover the new reporting requirements on those forms and discuss uncertainties that still exist related to the reporting requirements. The course includes examples and case studies relevant to the new disclosure lines of Schedules K-1. This program will include the latest relevant IRS guidance.Delivery Method: Individual webcastCPE Credit: 4Program Level: IntermediateThis course is being offered by a learning partner. You may access the Surgent platform through the My CPE page on vscpa.com after purchase\n 
CLASS:PUBLIC
END:VEVENT
END:VCALENDAR
