BEGIN:VCALENDAR
VERSION:2.0
PRODID:
BEGIN:VEVENT
UID:356097imp
DTSTAMP:20260424T175055Z
DTSTART:20260730T130000Z
DTEND:20260730T210000Z
SUMMARY: Surgent's Securing a Comfortable Retirement in the Age of Spending
DESCRIPTION: This course gives CPAs the knowledge to help their clients plan for retirement by evaluating how much retirement income will be required and strategizing about how to reach retirement goals.Delivery Method: Individual webcastCPE Credit: 8Program Level: IntermediateThis course is being offered by a learning partner. You may access the Surgent platform through the My CPE page on vscpa.com after purchase\n 
CLASS:PUBLIC
END:VEVENT
END:VCALENDAR
