BEGIN:VCALENDAR
VERSION:2.0
PRODID:
BEGIN:VEVENT
UID:356095imp
DTSTAMP:20260423T024953Z
DTSTART:20260730T130000Z
DTEND:20260730T163000Z
SUMMARY: Surgent's IRS Tax Examinations and Hot Issues
DESCRIPTION: The IRS began replenishing its workforce with the additional funding only to have to terminate workers or lay them off due to mandated federal workforce reductions. The IRS trains its audit workforce by examining the tax returns of individuals and small businesses. As the IRS continues to examine tax returns\, Accounting\, Tax\, and Financial Professionals need clients to understand the need for documentation and procedures to substantiate what IRS examiners are pursuing. Learn the high audit risk areas and ways to help clients survive an IRS audit with little or no change. It is critical for Accounting\, Tax\, and Financial Professionals in public accounting to understand the risk to clients and to themselves in tax return preparation and planning since the IRS continues to increase its audit coverage and is examining more taxpayers than it has in the recent past.Delivery Method: Individual webcastCPE Credit: 4Program Level: IntermediateThis course is being offered by a learning partner. You may access the Surgent platform through the My CPE page on vscpa.com after purchase\n 
CLASS:PUBLIC
END:VEVENT
END:VCALENDAR
