BEGIN:VCALENDAR
VERSION:2.0
PRODID:
BEGIN:VEVENT
UID:356071imp
DTSTAMP:20260421T234728Z
DTSTART:20260725T130000Z
DTEND:20260725T210000Z
SUMMARY: The Best S Corporation\, Limited Liability\, and Partnership Update Course by Surgent
DESCRIPTION: This year practitioners need to keep abreast of tax changes affecting pass-through entities used by their business clients and employers\, and this enlightening course delivers that information. You will learn invaluable strategies\, techniques\, innovative tax-planning concepts\, income-generating ideas\, and other planning opportunities available to S corporations\, partnerships\, LLCs\, and LLPs. In addition\, this course will discuss current trends and emerging issues\, helping practitioners stay informed about relevant and significant topics that may impact their clients. Continually updated to reflect enacted legislation.Delivery Method: Individual webcastCPE Credit: 8Program Level: UpdateThis course is being offered by a learning partner. You may access the Surgent platform through the My CPE page on vscpa.com after purchase\n 
CLASS:PUBLIC
END:VEVENT
END:VCALENDAR
