BEGIN:VCALENDAR
VERSION:2.0
PRODID:
BEGIN:VEVENT
UID:356066imp
DTSTAMP:20260425T021322Z
DTSTART:20260724T140000Z
DTEND:20260724T160000Z
SUMMARY: Surgent's Leveraging AI for Data Analytics in Accounting
DESCRIPTION: This course explores the data analytics aspects of AI in accounting. Participants will develop skills in leveraging AI tools for enhanced data analytics.Delivery Method: Individual webcastCPE Credit: 2Program Level: BasicThis course is being offered by a learning partner. You may access the Surgent platform through the My CPE page on vscpa.com after purchase\n 
CLASS:PUBLIC
END:VEVENT
END:VCALENDAR
