BEGIN:VCALENDAR
VERSION:2.0
PRODID:
BEGIN:VEVENT
UID:356048imp
DTSTAMP:20260424T072856Z
DTSTART:20260722T173000Z
DTEND:20260722T210000Z
SUMMARY: Surgent's Real Estate Taxation: Critical Considerations
DESCRIPTION: This course is a 'deep dive' into many aspects involving the taxation of real estate for the mid-level practitioner moving into this complex area. You will deepen your understanding of the complex considerations and strategies that individuals must navigate in acquiring\, operating\, and selling real estate. You will leave the course able to navigate critical issues associated with the relevant returns and plan strategically for your company or clients. We will discuss in detail the impact that recent tax changes have had on the real estate industry\, as well as new credits that are available after the Inflation Reduction Act of 2022.Delivery Method: Individual webcastCPE Credit: 4Program Level: IntermediateThis course is being offered by a learning partner. You may access the Surgent platform through the My CPE page on vscpa.com after purchase\n 
CLASS:PUBLIC
END:VEVENT
END:VCALENDAR
