BEGIN:VCALENDAR
VERSION:2.0
PRODID:
BEGIN:VEVENT
UID:356045imp
DTSTAMP:20260424T094258Z
DTSTART:20260722T170000Z
DTEND:20260722T203000Z
SUMMARY: Surgent's Advanced Trust Issues: A Roadmap for Success in An Increasingly Complex Area
DESCRIPTION: Trusts are not cookie-cutter documents. In fact\, they can be rather unwieldy\, especially in explaining the functions to a client and then having the client comply with the trust terms. This course delves into best practices. Given common scenarios\, what are the best trusts to use?  And how can the client be best protected?Delivery Method: Individual webcastCPE Credit: 4Program Level: AdvancedThis course is being offered by a learning partner. You may access the Surgent platform through the My CPE page on vscpa.com after purchase\n 
CLASS:PUBLIC
END:VEVENT
END:VCALENDAR
