BEGIN:VCALENDAR
VERSION:2.0
PRODID:
BEGIN:VEVENT
UID:356025imp
DTSTAMP:20260424T060524Z
DTSTART:20260720T180000Z
DTEND:20260720T200000Z
SUMMARY: Surgent's Privacy and Security Training: Obligations of Confidentiality and Safekeeping
DESCRIPTION: Spear phishing. Ransomware. Malware. Like the threats your business faces\, the cybersecurity lexicon is constantly evolving. This comprehensive presentation imparts practical privacy and data security know-how and creates fluency with the latest terminology. Learn best practices for cybersecurity safety\, as well as tailored training for those in positions responsible for implementing security policies. It is just as important to be diligent\, safe\, and well-versed in the attacks that we face in our personal lives.Delivery Method: Individual webcastCPE Credit: 2Program Level: BasicThis course is being offered by a learning partner. You may access the Surgent platform through the My CPE page on vscpa.com after purchase\n 
CLASS:PUBLIC
END:VEVENT
END:VCALENDAR
