BEGIN:VCALENDAR
VERSION:2.0
PRODID:
BEGIN:VEVENT
UID:356013imp
DTSTAMP:20260423T180813Z
DTSTART:20260716T170000Z
DTEND:20260716T190000Z
SUMMARY: Surgent's Understanding Partnership Taxation: Debt Allocations
DESCRIPTION: How debt is allocated to the partners in a partnership is important. It dictates how much money may be taken tax-free as a distribution\, the losses that flow down to the partners\, and the gain or loss on the sale of a partnership interest. However\, the allocation of debt can differ depending on the type of debt it is and the type of partner we are talking about. Furthermore\, 704(c) can complicate things. And what in the world is a constructive liquidation scenario? In this course\, we will tackle the concept of debt allocations - how you do it\, what it means\, and why you do it.Delivery Method: Individual webcastCPE Credit: 2Program Level: IntermediateThis course is being offered by a learning partner. You may access the Surgent platform through the My CPE page on vscpa.com after purchase\n 
CLASS:PUBLIC
END:VEVENT
END:VCALENDAR
