BEGIN:VCALENDAR
VERSION:2.0
PRODID:
BEGIN:VEVENT
UID:356012imp
DTSTAMP:20260421T234740Z
DTSTART:20260716T130000Z
DTEND:20260716T210000Z
SUMMARY: The Best Individual Income Tax Update Course by Surgent
DESCRIPTION: This highly informative course comprehensively covers all the latest tax law developments. The focus is on individual taxation and discussion of the planning opportunities practitioners need to understand to help clients respond effectively. You will come away from the course with the up-to-date knowledge to educate your individual tax clients and implement tax-saving ideas that will serve their ever-evolving needs. This course is continually updated to reflect enacted legislation.  Please Note: Due to content overlap\, it is recommended that this course NOT be taken together with BFTU.Delivery Method: Individual webcastCPE Credit: 8Program Level: UpdateThis course is being offered by a learning partner. You may access the Surgent platform through the My CPE page on vscpa.com after purchase\n 
CLASS:PUBLIC
END:VEVENT
END:VCALENDAR
