BEGIN:VCALENDAR
VERSION:2.0
PRODID:
BEGIN:VEVENT
UID:355997imp
DTSTAMP:20260424T223501Z
DTSTART:20260715T170000Z
DTEND:20260715T190000Z
SUMMARY: Surgent's Elder Fraud
DESCRIPTION: When we leave our jobs\, we also leave the protection our employer provides us with regards to internet and Wi-Fi security. Hired people may be able to help with the newest applications\, but they may not understand the security risks posed. This session will cover some basic information about cybersecurity weaknesses and some of the scams that target older\, retired people. Many times\, the perpetrator is someone close and someone who we think we can trust. In this course\, you will learn some basic tools to protect against those who wish to perpetrate fraud.Delivery Method: Individual webcastCPE Credit: 2Program Level: OverviewThis course is being offered by a learning partner. You may access the Surgent platform through the My CPE page on vscpa.com after purchase\n 
CLASS:PUBLIC
END:VEVENT
END:VCALENDAR
