BEGIN:VCALENDAR
VERSION:2.0
PRODID:
BEGIN:VEVENT
UID:355994imp
DTSTAMP:20260423T220347Z
DTSTART:20260715T180000Z
DTEND:20260715T200000Z
SUMMARY: Surgent's The AI-augmented Professional: Practical Tools\, Real Risks\, and Immediate Use Cases
DESCRIPTION: Artificial Intelligence is no longer a future concept\; it is a current necessity. This session provides a practical roadmap for practitioners to leverage AI safely and effectively. We move from a survey of available tools (from free apps to specialized software) to a deep dive into the ethical guardrails required to protect client data and maintain professional standards. Participants will leave with a playbook of real-world use cases that can be implemented immediately.Delivery Method: Individual webcastCPE Credit: 2Program Level: BasicThis course is being offered by a learning partner. You may access the Surgent platform through the My CPE page on vscpa.com after purchase\n 
CLASS:PUBLIC
END:VEVENT
END:VCALENDAR
