BEGIN:VCALENDAR
VERSION:2.0
PRODID:
BEGIN:VEVENT
UID:355987imp
DTSTAMP:20260424T001131Z
DTSTART:20260715T130000Z
DTEND:20260715T163000Z
SUMMARY: Surgent's Key Partnership and S Corporation Tax Planning Strategies
DESCRIPTION: Many of our clients are pass-through entities for which many of the general business strategies are subject to additional limitations. To provide the tax planning strategies for closely held business clients that will bring more revenue\, this course focuses on the special concerns and techniques the practitioner needs to thrive in this market.Delivery Method: Individual webcastCPE Credit: 4Program Level: IntermediateThis course is being offered by a learning partner. You may access the Surgent platform through the My CPE page on vscpa.com after purchase\n 
CLASS:PUBLIC
END:VEVENT
END:VCALENDAR
