BEGIN:VCALENDAR
VERSION:2.0
PRODID:
BEGIN:VEVENT
UID:355986imp
DTSTAMP:20260421T220122Z
DTSTART:20260715T190000Z
DTEND:20260715T210000Z
SUMMARY: Surgent's Working Remotely: Best Practices\, Challenges\, and Opportunities
DESCRIPTION: Working from home presents both benefits and challenges for professionals. For employees\, working from home provides opportunities to be more productive and gain time that would otherwise be spent commuting to and from the office. Employers who utilize remote work enjoy fewer fixed costs\, more efficiency\, and greater employee satisfaction. 

Without proper planning\, professionals who work remotely may experience increased anxiety and disorganization. They may also jeopardize data privacy. However\, when executed properly\, working remotely can help organizations become more efficient and profitable\, while at the same time improving employee morale. This course looks at how firms and companies have successfully implemented work from home programs and discusses mistakes that can be avoided through proper planning.Delivery Method: Individual webcastCPE Credit: 2Program Level: BasicThis course is being offered by a learning partner. You may access the Surgent platform through the My CPE page on vscpa.com after purchase\n 
CLASS:PUBLIC
END:VEVENT
END:VCALENDAR
