BEGIN:VCALENDAR
VERSION:2.0
PRODID:
BEGIN:VEVENT
UID:355978imp
DTSTAMP:20260423T225413Z
DTSTART:20260714T140000Z
DTEND:20260714T160000Z
SUMMARY: Surgent's Top Individual Tax Planning Strategies
DESCRIPTION: Individual tax planning strategies for 2026 and beyond will take their cue from the many tax advantageous tax law changes enacted in the One Big Beautiful Bill Act (OBBBA). Many of the OBBBA changes are very favorable to individual taxpayers. Taxpayers and their clients now have the opportunity to utilize these new planning strategies. Tax practitioners must know about these new changes and the planning strategies associated with them to maximize the advantages to their clients. This program will cover tax changes from 2025 that impact individuals and provide individuals with significant tax reduction opportunities for 2026.Delivery Method: Individual webcastCPE Credit: 2Program Level: BasicThis course is being offered by a learning partner. You may access the Surgent platform through the My CPE page on vscpa.com after purchase\n 
CLASS:PUBLIC
END:VEVENT
END:VCALENDAR
