BEGIN:VCALENDAR
VERSION:2.0
PRODID:
BEGIN:VEVENT
UID:355903imp
DTSTAMP:20260421T234317Z
DTSTART:20260630T130000Z
DTEND:20260630T210000Z
SUMMARY: The Best Federal Tax Update Course by Surgent
DESCRIPTION: In this continually revised course\, tax advisors will be fully updated on the most recent enacted legislation and IRS guidance\, as well as major trends on the horizon with a view toward planning considerations. This update course is designed for all practitioners\, both those working in public accounting as well as those in private industry\, who need the latest information on tax changes.  Please Note: Due to content overlap\, it is recommended that this course NOT be taken together with BITU.Delivery Method: Individual webcastCPE Credit: 8Program Level: UpdateThis course is being offered by a learning partner. You may access the Surgent platform through the My CPE page on vscpa.com after purchase\n 
CLASS:PUBLIC
END:VEVENT
END:VCALENDAR
