BEGIN:VCALENDAR
VERSION:2.0
PRODID:
BEGIN:VEVENT
UID:355895imp
DTSTAMP:20260424T103934Z
DTSTART:20260630T130000Z
DTEND:20260630T210000Z
SUMMARY: Surgent's Social Security and Medicare: Planning for You and Your Clients
DESCRIPTION: Social Security seems poised for changes in benefits and eligibility age. The leading edge of the baby boomer generation has already reached retirement age. Financial and tax planners can expect increased demand for strategies that dovetail Social Security with other retirement and estate planning objectives. This course provides tax and financial planning professionals with both the background information on the Social Security system and the strategies clients will need in dealing with Social Security\, and the myriad other related retirement planning issues.Delivery Method: Individual webcastCPE Credit: 8Program Level: BasicThis course is being offered by a learning partner. You may access the Surgent platform through the My CPE page on vscpa.com after purchase\n 
CLASS:PUBLIC
END:VEVENT
END:VCALENDAR
