BEGIN:VCALENDAR
VERSION:2.0
PRODID:
BEGIN:VEVENT
UID:355874imp
DTSTAMP:20260424T123302Z
DTSTART:20260626T170000Z
DTEND:20260626T180000Z
SUMMARY: Surgent's Reasonable Suspicion
DESCRIPTION: Given the opioid epidemic and the legalization of medical and recreational marijuana in a growing number of states\, many employers are concerned about the impact drugs and alcohol may be having on the safety and security of their workplaces. Reasonable suspicion testing is among the best ways for employers to identify whether an employee is under the influence of drugs or alcohol while working. This webinar explores what managers and supervisors need to know to implement a Reasonable Suspicion Testing Policy.Delivery Method: Individual webcastCPE Credit: 1Program Level: BasicThis course is being offered by a learning partner. You may access the Surgent platform through the My CPE page on vscpa.com after purchase\n 
CLASS:PUBLIC
END:VEVENT
END:VCALENDAR
