BEGIN:VCALENDAR
VERSION:2.0
PRODID:
BEGIN:VEVENT
UID:355861imp
DTSTAMP:20260423T034042Z
DTSTART:20260625T130000Z
DTEND:20260625T210000Z
SUMMARY: Surgent's Latest Developments in Government and Nonprofit Accounting and Auditing
DESCRIPTION: In today's fast-paced environment\, keeping up with the latest accounting and auditing requirements for governments and nonprofits can be challenging\, but this course makes it easier! Designed to save you time and effort\, this comprehensive update provides clear explanations of the most important developments affecting governments and nonprofits. Using a highly illustrative and innovative format\, the course features over 25 focused exercises to strengthen your working knowledge and ensure you leave prepared to apply the latest accounting and auditing standards with confidence.Delivery Method: Individual webcastCPE Credit: 8Program Level: UpdateThis course is being offered by a learning partner. You may access the Surgent platform through the My CPE page on vscpa.com after purchase\n 
CLASS:PUBLIC
END:VEVENT
END:VCALENDAR
