BEGIN:VCALENDAR
VERSION:2.0
PRODID:
BEGIN:VEVENT
UID:355828imp
DTSTAMP:20260424T093914Z
DTSTART:20260622T170000Z
DTEND:20260622T190000Z
SUMMARY: Surgent's Section 529 Plans: A Comprehensive Guide
DESCRIPTION: This course provides a thorough examination of qualified tuition programs (Section 529 plans)\, focusing on their tax treatment\, planning applications\, and recent legislative changes. Participants will learn how 529 plans operate\, what qualifies as education expenses\, and how contributions\, distributions\, and beneficiary changes are treated under federal law. The course explores practical planning strategies\, including 529-to-Roth IRA rollovers\, multigenerational "dynasty" 529 planning\, grandparent-owned account considerations\, and interplay with financial aid. It also addresses state-level variations\, compliance issues\, and common pitfalls.

Using real-world scenarios\, the course evaluates when 529 plans are advantageous\, the limitations families may encounter\, and alternative approaches to education and long-term savings. Participants will gain a clear understanding of tax benefits\, penalties\, strategic funding approaches\, and planning opportunities for high-net-worth families as well as typical households.Delivery Method: Individual webcastCPE Credit: 2Program Level: BasicThis course is being offered by a learning partner. You may access the Surgent platform through the My CPE page on vscpa.com after purchase\n 
CLASS:PUBLIC
END:VEVENT
END:VCALENDAR
