BEGIN:VCALENDAR
VERSION:2.0
PRODID:
BEGIN:VEVENT
UID:355823imp
DTSTAMP:20260423T115747Z
DTSTART:20260622T140000Z
DTEND:20260622T160000Z
SUMMARY: Surgent's Data at 30\,000 Feet: Traveling Smart with Client and Personal Information
DESCRIPTION: Whether you're heading across town or across the globe\, traveling with electronic devices carries real risks to the sensitive client and firm data stored on them. In this session\, we'll explore the ethical obligations CPAs have to protect confidential information\, including guidance from the AICPA Code of Professional Conduct and applicable laws. We'll examine how data can be accessed &mdash\; legitimately or maliciously &mdash\; by third parties during travel\, and offer practical strategies to minimize risk\, from using loaner devices and mobile device management to coordinating with IT before departure. The session includes current border search rules\, international considerations\, and actionable tips for staying secure in transit.Delivery Method: Individual webcastCPE Credit: 2Program Level: BasicThis course is being offered by a learning partner. You may access the Surgent platform through the My CPE page on vscpa.com after purchase\n 
CLASS:PUBLIC
END:VEVENT
END:VCALENDAR
