BEGIN:VCALENDAR
VERSION:2.0
PRODID:
BEGIN:VEVENT
UID:355808imp
DTSTAMP:20260424T204644Z
DTSTART:20260618T190000Z
DTEND:20260618T210000Z
SUMMARY: Surgent's Progressive Discipline and Termination
DESCRIPTION: Employee discipline is always challenging. Training on proper progressive discipline is critical to avoiding potential lawsuits while also trying to bring out the best possible employee performance. This webinar is designed to assist human resources professionals and managers in understanding the best ways to use progressive discipline as both a management and risk reduction tool. The webinar also will address best practices with regard to the employee termination process.Delivery Method: Individual webcastCPE Credit: 2Program Level: BasicThis course is being offered by a learning partner. You may access the Surgent platform through the My CPE page on vscpa.com after purchase\n 
CLASS:PUBLIC
END:VEVENT
END:VCALENDAR
