BEGIN:VCALENDAR
VERSION:2.0
PRODID:
BEGIN:VEVENT
UID:355793imp
DTSTAMP:20260424T172704Z
DTSTART:20260617T140000Z
DTEND:20260617T160000Z
SUMMARY: Surgent's Avoiding the Top 10 Mistakes That Can Wipe Out Retirement Savings
DESCRIPTION: Years of growth in a retirement account can be wiped out by one mistake. As such\, retirement account owners and their advisors should take care to ensure that IRAs are operated in compliance with the governing regulations. This includes ensuring that distributions are handled properly\, and that movement of retirement assets\, including between IRAs and employer plans\, does not violate the limitations that apply.Delivery Method: Individual webcastCPE Credit: 2Program Level: BasicThis course is being offered by a learning partner. You may access the Surgent platform through the My CPE page on vscpa.com after purchase\n 
CLASS:PUBLIC
END:VEVENT
END:VCALENDAR
