BEGIN:VCALENDAR
VERSION:2.0
PRODID:
BEGIN:VEVENT
UID:355760imp
DTSTAMP:20260423T065725Z
DTSTART:20260612T140000Z
DTEND:20260612T160000Z
SUMMARY: Surgent's Excel Lookups: Moving Beyond VLOOKUP Limitations
DESCRIPTION: How do you pull a value from a cell into another cell? Do you use a direct cell reference\, like =G10? If so\, you are probably missing out on some efficiency gains that could be achieved by using a variety of Excel's lookup functions. Veteran Excel users\, who are aware of the VLOOKUP function\, are also painfully aware of its limitations--especially that it cannot go left. We will explore how to bypass VLOOKUP's limitations by nesting functions and by moving beyond VLOOKUP altogether.Delivery Method: Individual webcastCPE Credit: 2Program Level: BasicThis course is being offered by a learning partner. You may access the Surgent platform through the My CPE page on vscpa.com after purchase\n 
CLASS:PUBLIC
END:VEVENT
END:VCALENDAR
