BEGIN:VCALENDAR
VERSION:2.0
PRODID:
BEGIN:VEVENT
UID:355759imp
DTSTAMP:20260423T073123Z
DTSTART:20260612T130000Z
DTEND:20260612T163000Z
SUMMARY: Surgent's Current Issues in Accounting and Auditing: An Annual Update
DESCRIPTION: Designed for accounting\, auditing\, and attestation practitioners at all levels in public accounting and business and industry\, this course provides a detailed review of the multitude of FASB and AICPA standards and reports issued over the past few years\, including a discussion of the FASB's Stage 3 PIR report on ASC 606. It also provides an overview of recent PCAOB inspection report findings and SEC rulemaking activity. Through hands-on examples and illustrations\, this course will help you apply the guidance in practice. We further discuss other important A&A practice matters to be aware of\, including an update on the quality management standards and soon-to-be-effective requirements for engagement quality reviews.Delivery Method: Individual webcastCPE Credit: 4Program Level: UpdateThis course is being offered by a learning partner. You may access the Surgent platform through the My CPE page on vscpa.com after purchase\n 
CLASS:PUBLIC
END:VEVENT
END:VCALENDAR
