BEGIN:VCALENDAR
VERSION:2.0
PRODID:
BEGIN:VEVENT
UID:355752imp
DTSTAMP:20260425T035240Z
DTSTART:20260612T130000Z
DTEND:20260612T163000Z
SUMMARY: Surgent's Integrated Planning\, Forecasting\, and Budgeting for Organizational Success
DESCRIPTION: Planning may be one of the most important assignments of the finance professional\; however\, it is often accomplished in a way that can harm the organization. In many cases\, huge sums are spent only to have a planning document developed that does not serve to bring the company together\, but rather causes internal division. In some situations the budget can actually harm both productivity and alignment.

This course is designed to bring planning\, budgeting\, and forecasting together into one fully aligned process that is easier\, more efficient\, and fully engages all parts of the organization. Rather than the plan being owned by the finance department\, it is owned and followed by everyone from the CEO to the entry-level employee.Delivery Method: Individual webcastCPE Credit: 4Program Level: IntermediateThis course is being offered by a learning partner. You may access the Surgent platform through the My CPE page on vscpa.com after purchase\n 
CLASS:PUBLIC
END:VEVENT
END:VCALENDAR
