BEGIN:VCALENDAR
VERSION:2.0
PRODID:
BEGIN:VEVENT
UID:355718imp
DTSTAMP:20260425T134418Z
DTSTART:20260609T190000Z
DTEND:20260609T210000Z
SUMMARY: Surgent's A Guide to Gig Economy Tax Issues
DESCRIPTION: The IRS defines the "gig economy" as people earning income providing on-demand work\, services\, or goods on either a part-time or full-time basis. The economic times we live in are changing\, and accounting and finance professionals must learn how the rules apply in this new gig economy. The tax rules that apply to gig workers challenge traditional ideas of who is an employee and who is an independent contractor\, and accounting and finance professionals must have the knowledge to make this determination. This program addresses federal and state tax issues accounting and finance professionals must address with clients and their own workers.Delivery Method: Individual webcastCPE Credit: 2Program Level: BasicThis course is being offered by a learning partner. You may access the Surgent platform through the My CPE page on vscpa.com after purchase\n 
CLASS:PUBLIC
END:VEVENT
END:VCALENDAR
