BEGIN:VCALENDAR
VERSION:2.0
PRODID:
BEGIN:VEVENT
UID:355715imp
DTSTAMP:20260424T103710Z
DTSTART:20260609T130000Z
DTEND:20260609T210000Z
SUMMARY: Surgent's Business Law Essentials for Practitioners and Controllers
DESCRIPTION: This course covers basic legal principles that every accountant should be familiar with to avoid common legal disputes and costly litigation. By analyzing business law issues from the standpoint and background of accountants and auditors\, this course will help you develop an approach to client and practice issues with a sensitivity and appreciation for potential legal ramifications.Delivery Method: Individual webcastCPE Credit: 8Program Level: BasicThis course is being offered by a learning partner. You may access the Surgent platform through the My CPE page on vscpa.com after purchase\n 
CLASS:PUBLIC
END:VEVENT
END:VCALENDAR
