BEGIN:VCALENDAR
VERSION:2.0
PRODID:
BEGIN:VEVENT
UID:355703imp
DTSTAMP:20260421T234549Z
DTSTART:20260608T130000Z
DTEND:20260608T160000Z
SUMMARY: Surgent's What Practitioners Need to Know About Estate Planning and Administering a Client’s Estate
DESCRIPTION: Even though the current transfer tax exemption is extremely high to the point that few decedents have a federal estate tax liability\, administering an estate is a burden for many family members. In many cases\, the family members will look to their professional advisors for help in estate planning and administering an estate. The purpose of this program is to discuss those issues that practitioners with clients involved in estate planning administration need to know to advise those clients. Lack of planning and preparedness in estate issues can cost the heirs time and money upon a decedent's death.Delivery Method: Individual webcastCPE Credit: 3Program Level: BasicThis course is being offered by a learning partner. You may access the Surgent platform through the My CPE page on vscpa.com after purchase\n 
CLASS:PUBLIC
END:VEVENT
END:VCALENDAR
