BEGIN:VCALENDAR
VERSION:2.0
PRODID:
BEGIN:VEVENT
UID:355692imp
DTSTAMP:20260424T142706Z
DTSTART:20260605T140000Z
DTEND:20260605T160000Z
SUMMARY: Surgent's Hiring New Workers and Payroll Taxes
DESCRIPTION: When a new employee is hired\, there are a lot of things the employer needs to take care of. Aside from getting employment contracts signed\, training lined up\, and the new hire breakfast planned\, employers are tasked with making sure all of the payroll forms are filled out. For many small business owners\, this can be a source of anxiety. They often wonder if they have everything they need. They also hear horror stories about potential IRS penalties for not having all of the boxes checked. In this course\, we will explore the payroll compliance side of hiring new employees. From the alphabet soup of forms that need to be filled out to the initial payroll tax forms\, we have you covered if you are a new practitioner or new business owner. We will even discuss the surprisingly difficult-to-navigate world of unemployment insurance.Delivery Method: Individual webcastCPE Credit: 2Program Level: BasicThis course is being offered by a learning partner. You may access the Surgent platform through the My CPE page on vscpa.com after purchase\n 
CLASS:PUBLIC
END:VEVENT
END:VCALENDAR
