BEGIN:VCALENDAR
VERSION:2.0
PRODID:
BEGIN:VEVENT
UID:355665imp
DTSTAMP:20260424T165001Z
DTSTART:20260603T170000Z
DTEND:20260603T190000Z
SUMMARY: Surgent's Reducing a Business Owner Client’s Exposure to Social Security and Self-Employment Taxes
DESCRIPTION: Many business owner clients wish to minimize their Social Security and self-employment tax liabilities. This course provides accounting and finance professionals with the background to understand what kinds of income constitute self-employment income and earned income. It covers strategies that can be used to reduce clients' exposure to the self-employment tax and Social Security tax.Delivery Method: Individual webcastCPE Credit: 2Program Level: IntermediateThis course is being offered by a learning partner. You may access the Surgent platform through the My CPE page on vscpa.com after purchase\n 
CLASS:PUBLIC
END:VEVENT
END:VCALENDAR
