BEGIN:VCALENDAR
VERSION:2.0
PRODID:
BEGIN:VEVENT
UID:355660imp
DTSTAMP:20260424T060549Z
DTSTART:20260603T180000Z
DTEND:20260603T200000Z
SUMMARY: Surgent's Top 20 Questions Advisors Ask About the SECURE Acts and Other IRA Rules
DESCRIPTION: Advisors often ask clarifying questions as they increasingly gain an understanding of new and existing tax laws that govern IRAs. Some provisions see more questions than others due to their complexity\, popularity\, and level of impact on tax benefits. This course focuses on the top 20 of these questions and on SECURE Act 1.0\, SECURE Act 2.0\, and other hot topics. This course aims to help the advisor provide clients with the correct responses based on their IRA profiles.Delivery Method: Individual webcastCPE Credit: 2Program Level: BasicThis course is being offered by a learning partner. You may access the Surgent platform through the My CPE page on vscpa.com after purchase\n 
CLASS:PUBLIC
END:VEVENT
END:VCALENDAR
