BEGIN:VCALENDAR
VERSION:2.0
PRODID:
BEGIN:VEVENT
UID:355648imp
DTSTAMP:20260425T035055Z
DTSTART:20260602T190000Z
DTEND:20260602T200000Z
SUMMARY: Surgent's Data Security: Best Practices to Protect Your Business and Yourself
DESCRIPTION: Data security is a front-of-mind topic for most businesses because the risk and cost statistics are sobering. Each of us is in the crosshairs because a typical internet-connected computer faces a cyberattack every 39 seconds. Businesses of all sizes should be cognizant of the ethical issues that must be considered when planning their approach to privacy and data security. In this webinar\, we will explore both the risks we have traditionally faced in the workplace personally\, as well as the novel set of data privacy threats and compliance challenge issues employers face with a remote and mobile workforce.Delivery Method: Individual webcastCPE Credit: 1Program Level: BasicThis course is being offered by a learning partner. You may access the Surgent platform through the My CPE page on vscpa.com after purchase\n 
CLASS:PUBLIC
END:VEVENT
END:VCALENDAR
