BEGIN:VCALENDAR
VERSION:2.0
PRODID:
BEGIN:VEVENT
UID:355643imp
DTSTAMP:20260422T225310Z
DTSTART:20260601T170000Z
DTEND:20260601T190000Z
SUMMARY: Surgent's Annual Update for Defined Contribution Plans
DESCRIPTION: This course will provide a general understanding of the current and prospective reporting and disclosure requirements for employee benefit plans. Participants will be provided with an insight into the common errors and mistakes made by auditors and plan administrators. Results from the Department of Labor's ("DOL") audit quality study will be discussed and reviewed. This material will provide auditors and plan administrators with up-to-date information regarding defined contribution plans auditing\, reporting and disclosure requirements.Delivery Method: Individual webcastCPE Credit: 2Program Level: IntermediateThis course is being offered by a learning partner. You may access the Surgent platform through the My CPE page on vscpa.com after purchase\n 
CLASS:PUBLIC
END:VEVENT
END:VCALENDAR
