BEGIN:VCALENDAR
VERSION:2.0
PRODID:
BEGIN:VEVENT
UID:355602imp
DTSTAMP:20260424T054910Z
DTSTART:20260526T180000Z
DTEND:20260526T210000Z
SUMMARY: Surgent's Advising a Client Regarding the Tax Consequences Associated with Buying or Selling a Business
DESCRIPTION: Buying and selling a business can be a complex transaction with many tax issues. These issues include whether the transaction is or should be a stock or an asset sale when the business involved is a corporation\, as well as the tax consequences associated with the sale of a partnership or a C or S corporation. 

Accounting and finance professionals who advise clients who are buying or selling a business primarily focus on the tax issues that apply. This program explains and analyzes the tax issues practitioners must address in order to properly advise clients who are either buyers or sellers of businesses.Delivery Method: Individual webcastCPE Credit: 3Program Level: BasicThis course is being offered by a learning partner. You may access the Surgent platform through the My CPE page on vscpa.com after purchase\n 
CLASS:PUBLIC
END:VEVENT
END:VCALENDAR
