BEGIN:VCALENDAR
VERSION:2.0
PRODID:
BEGIN:VEVENT
UID:355574imp
DTSTAMP:20260424T084147Z
DTSTART:20260519T140000Z
DTEND:20260519T160000Z
SUMMARY: Surgent's Strategies for Maximizing Social Security Benefits
DESCRIPTION: As Americans live longer and increasingly move away from traditional pensions\, Social Security has become the main source of retirement income for many clients. Meanwhile\, concerns about solvency and a lack of understanding of key rules have led to confusion and sometimes misguided decisions. This program offers tax practitioners the knowledge they need to help clients make informed choices about Social Security and retirement income.Delivery Method: Individual webcastCPE Credit: 2Program Level: IntermediateThis course is being offered by a learning partner. You may access the Surgent platform through the My CPE page on vscpa.com after purchase\n 
CLASS:PUBLIC
END:VEVENT
END:VCALENDAR
