BEGIN:VCALENDAR
VERSION:2.0
PRODID:
BEGIN:VEVENT
UID:355570imp
DTSTAMP:20260424T002935Z
DTSTART:20260518T170000Z
DTEND:20260518T190000Z
SUMMARY: Surgent's The CMA’s Guide to Project Management
DESCRIPTION: A significant number of projects fail to achieve their initial goals and/or are not completed within budget and their original timetable. As a team member\, a CMA has a unique skill set and experiences to assist in project management. In addition to their analytical training and knowledge of budgets and controls\, they typically have ongoing contacts with other professionals from a variety of backgrounds. Familiar analytical tools/techniques can be applied to managing projects. This brief program is designed to aid both experienced and less experienced participants in increasing their knowledge of\, and comfort with\, the steps and skills needed for success.Delivery Method: Individual webcastCPE Credit: 2Program Level: IntermediateThis course is being offered by a learning partner. You may access the Surgent platform through the My CPE page on vscpa.com after purchase\n 
CLASS:PUBLIC
END:VEVENT
END:VCALENDAR
