BEGIN:VCALENDAR
VERSION:2.0
PRODID:
BEGIN:VEVENT
UID:355549imp
DTSTAMP:20260422T215057Z
DTSTART:20260514T170000Z
DTEND:20260514T190000Z
SUMMARY: Surgent's Navigating AI Compliance: The EU AI Act for U.S. Finance and Accounting Leaders
DESCRIPTION: This course provides U.S.-based accounting and finance professionals with an in-depth understanding of the EU Artificial Intelligence (AI) Act\, the first comprehensive AI regulation in the world. It explores the Act's key provisions\, including its risk classification framework\, compliance requirements for high-risk systems\, and transparency obligations. Participants will gain insight into how the Act affects organizations operating internationally and how to prepare for compliance challenges. Interactive activities are integrated throughout the course to reinforce key concepts.Delivery Method: Individual webcastCPE Credit: 2Program Level: BasicThis course is being offered by a learning partner. You may access the Surgent platform through the My CPE page on vscpa.com after purchase\n 
CLASS:PUBLIC
END:VEVENT
END:VCALENDAR
