BEGIN:VCALENDAR
VERSION:2.0
PRODID:
BEGIN:VEVENT
UID:355529imp
DTSTAMP:20260422T011731Z
DTSTART:20260511T180000Z
DTEND:20260511T200000Z
SUMMARY: Surgent's Understanding Partnership Taxation: PTE Elections\, 754 Elections\, and Selling a Partnership Interest
DESCRIPTION: Partnership tax law is always difficult. However\, when certain transactions come up\, not knowing how to handle them can be costly to clients and practitioners. In this course\, we discuss several of these types of situations. We will explore the tax impacts of a PTE election and how a 754 election affects the inside basis of partnership assets. We will then examine those tricky look-through provisions on the sale of a partnership interest in order to properly calculate the tax implications.Delivery Method: Individual webcastCPE Credit: 2Program Level: IntermediateThis course is being offered by a learning partner. You may access the Surgent platform through the My CPE page on vscpa.com after purchase\n 
CLASS:PUBLIC
END:VEVENT
END:VCALENDAR
