BEGIN:VCALENDAR
VERSION:2.0
PRODID:
BEGIN:VEVENT
UID:355309imp
DTSTAMP:20260423T201736Z
DTSTART:20260625T200000Z
DTEND:20260625T215000Z
SUMMARY: FASB Update and Review
DESCRIPTION: Periodic FASB checkups are critical for accountants who deal with financial statements prepared in accordance with U.S. GAAP. This course introduces recent FASB pronouncements and revisits selected existing standards that are likely to be salient for private entities. This session also offers a preview of coming attractions by examining significant elements of the FASB's technical agenda\n 
Delivery Method: Individual webcast\n    CPE Credit: 2\n  Program Level: Basic                                                                      \n  
CLASS:PUBLIC
END:VEVENT
END:VCALENDAR
