BEGIN:VCALENDAR
VERSION:2.0
PRODID:
BEGIN:VEVENT
UID:354827imp
DTSTAMP:20260424T105746Z
DTSTART:20260609T200000Z
DTEND:20260609T233600Z
SUMMARY: Financial Statement Analysis
DESCRIPTION: This hands-on workshop offers an analytical approach for designing\, executing\, and communicating results of a comprehensive financial statement analysis. We will explore numerous techniques and approaches that facilitate in-depth financial statement analysis. Accountants in public practice will obtain insight regarding analytical procedures\, additional client services\, and enhanced compliance with professional standards. Accountants in private enterprises will develop more robust techniques for understanding their organization&rsquo\;s financial statements to facilitate forward-thinking decisions and communication to internal and external stakeholders\n 
Delivery Method: Individual webcast\n    CPE Credit: 4\n  Program Level: Intermediate                                                               \n  
CLASS:PUBLIC
END:VEVENT
END:VCALENDAR
