BEGIN:VCALENDAR
VERSION:2.0
PRODID:
BEGIN:VEVENT
UID:354459imp
DTSTAMP:20260424T093333Z
DTSTART:20260527T140000Z
DTEND:20260527T145600Z
SUMMARY: Business Valuation Fundamentals
DESCRIPTION: This course provides a practical overview of business valuation\, guiding participants through the key concepts\, methodologies\, and considerations involved. You will explore the types of valuation reports\, the standards governing their preparation\, and the step-by-step process of transforming raw data into actionable insights. The course also examines how the intended purpose of a report can influence its conclusions and offers strategies for valuing minority interests. By the end of the course\, participants will gain a clear understanding of how to read\, interpret\, and apply business valuation reports effectively\n 
Delivery Method: Individual webcast\n    CPE Credit: 1\n  Program Level: Basic                                                                      \n  
CLASS:PUBLIC
END:VEVENT
END:VCALENDAR
