BEGIN:VCALENDAR
VERSION:2.0
PRODID:
BEGIN:VEVENT
UID:353985zl
DTSTAMP:20260426T033901Z
DTSTART:20270112T203000Z
DTEND:20270112T221000Z
SUMMARY: AI for Accountants: Practical Applications
DESCRIPTION: 
CLASS:PUBLIC
END:VEVENT
END:VCALENDAR
