BEGIN:VCALENDAR
VERSION:2.0
PRODID:
BEGIN:VEVENT
UID:353980zl
DTSTAMP:20260426T015952Z
DTSTART:20261215T203000Z
DTEND:20261215T221000Z
SUMMARY: AI for Accountants: Practical Applications
DESCRIPTION: This course is designed for firm partners and managers to explore ways to incorporate data analytics and related technologies in their audit practices. Participants explore how small- and mid-size firms are using these tools to improve engagement efficiency and quality while providing opportunities for value-added services to clients.  All of AHI's multi-day courses rely on live participant engagement. For this two-hour course\, we encourage you to have a working webcam and microphone to take advantage of a live discussion leader and participant interaction.
CLASS:PUBLIC
END:VEVENT
END:VCALENDAR
